BEGIN:VCALENDAR
VERSION:2.0
PRODID:-//Freedom Christian - ECPv6.15.18//NONSGML v1.0//EN
CALSCALE:GREGORIAN
METHOD:PUBLISH
X-ORIGINAL-URL:https://freedomchristian.org
X-WR-CALDESC:Events for Freedom Christian
REFRESH-INTERVAL;VALUE=DURATION:PT1H
X-Robots-Tag:noindex
X-PUBLISHED-TTL:PT1H
BEGIN:VTIMEZONE
TZID:UTC
BEGIN:STANDARD
TZOFFSETFROM:+0000
TZOFFSETTO:+0000
TZNAME:UTC
DTSTART:20250101T000000
END:STANDARD
END:VTIMEZONE
BEGIN:VEVENT
DTSTART;TZID=UTC:20260506T090000
DTEND;TZID=UTC:20260506T103000
DTSTAMP:20260419T185831
CREATED:20251218T150257Z
LAST-MODIFIED:20260416T185255Z
UID:3710-1778058000-1778063400@freedomchristian.org
SUMMARY:Mama's & Mini's
DESCRIPTION:Mama’s we are inviting you and your mini’s to Freedom Christian for a playdate! This is a great way to let you littles play while having great conversations with other moms. This is for moms and children 5 and under. \nWhere: Freedom Christian Sterling Heights Campus upstairs in the preschool room \nWhen: May 6th from 9am to 10:30am
URL:https://freedomchristian.org/event/mamas-minis/
LOCATION:Freedom Christian SHC\, 41380 Ryan Rd\, Sterling Heights\, MI\, 48314\, United States
CATEGORIES:Freedom Events,Propelled,Roots
ATTACH;FMTTYPE=image/jpeg:https://freedomchristian.org/wp-content/uploads/2025/12/Mamas-Minis.jpg
ORGANIZER;CN="Jenny Clair":MAILTO:jclair@freedomchristian.org
END:VEVENT
BEGIN:VEVENT
DTSTART;TZID=UTC:20260506T190000
DTEND;TZID=UTC:20260506T203000
DTSTAMP:20260419T185831
CREATED:20241016T195537Z
LAST-MODIFIED:20260416T185531Z
UID:2713-1778094000-1778099400@freedomchristian.org
SUMMARY:Membership Class
DESCRIPTION:We will have our membership class on May 6th at 7pm. \nMembership is a way that we can further connect with and be a part of the Church community. If you are interested in being a member here at Freedom Christian\, click the button below to sign up! \nCLICK HERE TO SIGN UP!
URL:https://freedomchristian.org/event/membership-class-2/
LOCATION:Freedom Christian SHC\, 41380 Ryan Rd\, Sterling Heights\, MI\, 48314\, United States
CATEGORIES:Freedom Events
ATTACH;FMTTYPE=image/jpeg:https://freedomchristian.org/wp-content/uploads/2024/08/Black-and-Gold-Modern-Membership-ID-Card-11-x-17-in-8.5-x-11-in-5000-x-5000-px.jpg
END:VEVENT
BEGIN:VEVENT
DTSTART;TZID=UTC:20260510T090000
DTEND;TZID=UTC:20260510T120000
DTSTAMP:20260419T185831
CREATED:20260108T141856Z
LAST-MODIFIED:20260416T184822Z
UID:2811-1778403600-1778414400@freedomchristian.org
SUMMARY:Child Dedications
DESCRIPTION:Child dedications are on May 10th at our Sterling Heights and Washington Twp. campus. \nIf you are interested in dedicating your child please sign up by May 3rd! \nCLICK HERE TO SIGN UP
URL:https://freedomchristian.org/event/child-dedications-4/
LOCATION:Freedom Christian SHC & WTC
CATEGORIES:Freedom Events,Roots
ATTACH;FMTTYPE=image/jpeg:https://freedomchristian.org/wp-content/uploads/2024/03/Child-Dedications.jpeg
END:VEVENT
BEGIN:VEVENT
DTSTART;TZID=UTC:20260517T090000
DTEND;TZID=UTC:20260517T120000
DTSTAMP:20260419T185831
CREATED:20241016T174641Z
LAST-MODIFIED:20260416T185120Z
UID:2710-1779008400-1779019200@freedomchristian.org
SUMMARY:Water Baptisms
DESCRIPTION:We will be having our Water Baptisms on May 17th at both our Sterling Heights and our Washington Twp Campus. \nBaptism is simply a step of obedience declaring outwardly our faith in Jesus. \nPlease sign up by May 10th! \nCLICK HERE TO SIGN UP!
URL:https://freedomchristian.org/event/water-baptisms-2/
LOCATION:Freedom Christian SHC & WTC
CATEGORIES:Freedom Events
ATTACH;FMTTYPE=image/jpeg:https://freedomchristian.org/wp-content/uploads/2024/10/Baptism.jpg
END:VEVENT
END:VCALENDAR