BEGIN:VCALENDAR
VERSION:2.0
PRODID:-//Freedom Christian - ECPv6.15.18//NONSGML v1.0//EN
CALSCALE:GREGORIAN
METHOD:PUBLISH
X-WR-CALNAME:Freedom Christian
X-ORIGINAL-URL:https://freedomchristian.org
X-WR-CALDESC:Events for Freedom Christian
REFRESH-INTERVAL;VALUE=DURATION:PT1H
X-Robots-Tag:noindex
X-PUBLISHED-TTL:PT1H
BEGIN:VTIMEZONE
TZID:UTC
BEGIN:STANDARD
TZOFFSETFROM:+0000
TZOFFSETTO:+0000
TZNAME:UTC
DTSTART:20240101T000000
END:STANDARD
END:VTIMEZONE
BEGIN:VEVENT
DTSTART;TZID=UTC:20260408T190000
DTEND;TZID=UTC:20260408T203000
DTSTAMP:20260422T011455
CREATED:20250326T180132Z
LAST-MODIFIED:20260318T173843Z
UID:3088-1775674800-1775680200@freedomchristian.org
SUMMARY:New Life Class
DESCRIPTION:This class is for those that are new or returning to faith\, and those interested in exploring what Christianity is all about. \nClasses are on: April 8th\, April 15th\, April 22nd \n7pm – Sterling Heights Campus Room 202 \nCLICK HERE TO SIGN UP!
URL:https://freedomchristian.org/event/new-life-class/
LOCATION:Freedom Christian SHC\, 41380 Ryan Rd\, Sterling Heights\, MI\, 48314\, United States
CATEGORIES:Adult Ministries,Freedom Events
ATTACH;FMTTYPE=image/jpeg:https://freedomchristian.org/wp-content/uploads/2025/03/Brown-White-Modern-Bible-Study-Poster.jpg
ORGANIZER;CN="Alex Brotnov":MAILTO:abrotnov@freedomchristian.org
END:VEVENT
BEGIN:VEVENT
DTSTART;TZID=UTC:20260405T103000
DTEND;TZID=UTC:20260405T120000
DTSTAMP:20260422T011455
CREATED:20260305T172350Z
LAST-MODIFIED:20260311T181933Z
UID:3837-1775385000-1775390400@freedomchristian.org
SUMMARY:Easter Service at Freedom Christian
DESCRIPTION:Join us this Easter at Freedom Christian for a morning celebrating hope\, new life\, and the resurrection of Jesus. Service begins at 10:30 AM\, and we would love for you and your family to be part of it! \nWhether you’ve been to church for years or it’s your first time\, everyone is welcome here. We’ll also have fun kids services for children in 5th grade and younger\, so the whole family can enjoy the morning. \nBring your family\, invite a friend\, and come celebrate Easter with us. We can’t wait to meet you!
URL:https://freedomchristian.org/event/easter-service-at-freedom-christian/
LOCATION:Freedom Christian SHC\, 41380 Ryan Rd\, Sterling Heights\, MI\, 48314\, United States
CATEGORIES:Adult Ministries,Freedom Events
ATTACH;FMTTYPE=image/png:https://freedomchristian.org/wp-content/uploads/2026/03/Easter-Square-Graphic-2000-x-2000-px.png
END:VEVENT
BEGIN:VEVENT
DTSTART;TZID=UTC:20260403T120000
DTEND;TZID=UTC:20260403T130000
DTSTAMP:20260422T011455
CREATED:20260311T181004Z
LAST-MODIFIED:20260311T181123Z
UID:3852-1775217600-1775221200@freedomchristian.org
SUMMARY:Good Friday
DESCRIPTION:This Good Friday\, we’re joining with other local churches for a meaningful time of worship\, reflection\, and unity as we remember the sacrifice of Jesus. \nApril 3 at 12:00 PM\nThe Shores Church\n24905 Manhatton Street\nSt. Clair Shores\, MI 48080 \nPlease note: this service will not be held at Freedom Christian. We’ll be gathering with our church network at The Shores Church for this special service. \nEveryone is welcome. We would love for you\, your friends\, and your family to join us for this powerful time as we reflect on the hope and grace found in the cross.
URL:https://freedomchristian.org/event/good-friday/
LOCATION:The Shores Church\, 24905 Manhatton Street\, St. Clair Shores\, Michigan\, 48080\, United States
CATEGORIES:Adult Ministries
ATTACH;FMTTYPE=image/png:https://freedomchristian.org/wp-content/uploads/2026/03/Screenshot-2026-03-11-at-1.58.01 PM.png
END:VEVENT
BEGIN:VEVENT
DTSTART;TZID=UTC:20260314T093000
DTEND;TZID=UTC:20260314T120000
DTSTAMP:20260422T011455
CREATED:20260204T205737Z
LAST-MODIFIED:20260305T184258Z
UID:3796-1773480600-1773489600@freedomchristian.org
SUMMARY:Propelled Coffee & Crafts
DESCRIPTION:Ladies\, you are invited to have some coffee and do some crafts with us! \nDate: March 14\, 2026\nTime: 9:30 am – 12pm\nPlace: Sterling Heights Campus – Cafe\nAge: Ladies 16 & up\nCost: $20 pp / $25 pp after 2/25\nIncludes: one hand-crafted beverage\, light refreshments\, and all the supplies needed for the craft project\n\nWE WILL NOT BE ACCEPTING PAYMENTS AT THE DOOR \nTo register for this event\, please contact Jenny at jclair@freedomchristian.org
URL:https://freedomchristian.org/event/coffee-crafts/
LOCATION:Freedom Christian SHC\, 41380 Ryan Rd\, Sterling Heights\, MI\, 48314\, United States
CATEGORIES:Adult Ministries,Propelled
ATTACH;FMTTYPE=image/png:https://freedomchristian.org/wp-content/uploads/2026/02/Propelled-coffee-and-crafts.png
ORGANIZER;CN="Jenny Clair":MAILTO:jclair@freedomchristian.org
END:VEVENT
BEGIN:VEVENT
DTSTART;TZID=UTC:20260305T183000
DTEND;TZID=UTC:20260305T203000
DTSTAMP:20260422T011455
CREATED:20240110T213212Z
LAST-MODIFIED:20260309T131011Z
UID:2104-1772735400-1772742600@freedomchristian.org
SUMMARY:Women's Bible Study
DESCRIPTION:Study: Walking With God by Beth Moore\nPlace: Sterling Heights Café\nDate:  Thursday Evenings \nTime:  6:30pm – 8:30 pm \nWe will meet on Thursday evenings every 2 weeks beginning March 5 – May 7\, with one exception. The last two meetings will be one week apart\, back-to-back. See dates below: \nMarch 5\, 19\nApril 2\, 16\, 30\nMay 7 \nThis is open to ladies 18 and up. \nYou will need to purchase your study book on your own. \nCLICK HERE TO SIGN UP!
URL:https://freedomchristian.org/event/2104/
LOCATION:Freedom Christian SHC\, 41380 Ryan Rd\, Sterling Heights\, MI\, 48314\, United States
CATEGORIES:Adult Ministries,Propelled
ATTACH;FMTTYPE=image/png:https://freedomchristian.org/wp-content/uploads/2024/01/Screenshot-2026-02-22-at-12.37.52 PM.png
END:VEVENT
BEGIN:VEVENT
DTSTART;TZID=UTC:20251208T063000
DTEND;TZID=UTC:20251208T203000
DTSTAMP:20260422T011455
CREATED:20251117T203938Z
LAST-MODIFIED:20251117T204330Z
UID:3626-1765175400-1765225800@freedomchristian.org
SUMMARY:Propelled - A Cozy Christmas
DESCRIPTION:A Cozy Christmas\nDate: December 8\nTime: 6:30-8:30pm\nPlace:  Cafe – SHC\nWho: For ladies 15 & up\nCost: $25 ($30 after 11/30) DEADLINE TO SIGN UP IS 12/5\n\nWhat: Come dressed in your comfy clothes or even cozy pajamas and settle in for an evening of dinner & Christmas fun! This is a space for all of us ladies come together and “Bring the Joy of Jesus into the Christmas Season”. This is one event where you can come\, relax\, and celebrate the real meaning of the season.\n\nEvery lady should plan to bring 1 Dozen Cookies AND the recipe to pass along! (If you bring store bought cookies\, please bring a copy of the ingredients)\n\nCLICK HERE TO SIGN UP!
URL:https://freedomchristian.org/event/propelled-a-cozy-christmas/
LOCATION:Freedom Christian SHC\, 41380 Ryan Rd\, Sterling Heights\, MI\, 48314\, United States
CATEGORIES:Adult Ministries,Propelled
ATTACH;FMTTYPE=image/png:https://freedomchristian.org/wp-content/uploads/2025/11/thumbnail_cozy-christmas-social-media.png
ORGANIZER;CN="Jenny Clair":MAILTO:jclair@freedomchristian.org
END:VEVENT
END:VCALENDAR