BEGIN:VCALENDAR
VERSION:2.0
PRODID:-//Freedom Christian - ECPv6.15.18//NONSGML v1.0//EN
CALSCALE:GREGORIAN
METHOD:PUBLISH
X-WR-CALNAME:Freedom Christian
X-ORIGINAL-URL:https://freedomchristian.org
X-WR-CALDESC:Events for Freedom Christian
REFRESH-INTERVAL;VALUE=DURATION:PT1H
X-Robots-Tag:noindex
X-PUBLISHED-TTL:PT1H
BEGIN:VTIMEZONE
TZID:UTC
BEGIN:STANDARD
TZOFFSETFROM:+0000
TZOFFSETTO:+0000
TZNAME:UTC
DTSTART:20250101T000000
END:STANDARD
END:VTIMEZONE
BEGIN:VEVENT
DTSTART;TZID=UTC:20260402T000000
DTEND;TZID=UTC:20260522T235900
DTSTAMP:20260423T015612
CREATED:20240411T160521Z
LAST-MODIFIED:20260408T175611Z
UID:2363-1775088000-1779494340@freedomchristian.org
SUMMARY:Summer Camp Registration
DESCRIPTION:Kids & Youth Camp registration will be opening soon! This is for students who are currently in 3rd- 12th grade. Group Enrollment begins April 2nd and ends May 22nd. \nYouth Camp 3 FaHoLo: July 12-15$255 Group Enrollment \nYouth Camp Sign Up!  \nKids Camp 1 FaHoLo: July 19-22$245 Group Enrollment \nKids Camp Sign Up! \nIf you would like your student to attend but are unable to financially get your student to camp\, please email church@freedomchristian.org and ask Diane for a sponsorship. We want all students to make it to this event! \n  \n 
URL:https://freedomchristian.org/event/summer-camp-registration/
LOCATION:FaHoLo Conference Center\, 3000 Mt Hope Road\, Grass Lake\, 49240\, United States
CATEGORIES:Outward Youth,Roots
ATTACH;FMTTYPE=image/png:https://freedomchristian.org/wp-content/uploads/2024/04/Abide-youth-camps.png
ORGANIZER;CN="Dawson Wilmoth":MAILTO:dwilmoth@freedomchristian.org
END:VEVENT
BEGIN:VEVENT
DTSTART;TZID=UTC:20260423T180000
DTEND;TZID=UTC:20260423T200000
DTSTAMP:20260423T015612
CREATED:20250623T182557Z
LAST-MODIFIED:20260316T172321Z
UID:3268-1776967200-1776974400@freedomchristian.org
SUMMARY:Book Club Night
DESCRIPTION:Event: Propelled Book Club Night\nDate:  April 23\, 2026\nTime:  6-8 pm\nBook:  Unashamed by Christine Caine\nPlace:  SHC – Cafe\nCost:   FREEThis is a one-night discussion about the book. \nThis event is for all ladies. \nThe cafe will be open\, drinks available for purchase \nThis Book Club night will be hosted by Pastor Kelli Best. Be sure to check your confirmation email for extra information including online group study that will accompany this book! \n\nCLICK HERE TO SIGN UP!
URL:https://freedomchristian.org/event/3268/
LOCATION:Freedom Christian SHC\, 41380 Ryan Rd\, Sterling Heights\, MI\, 48314\, United States
CATEGORIES:Propelled
ATTACH;FMTTYPE=image/png:https://freedomchristian.org/wp-content/uploads/2025/06/april-book-club-insta-1.png
ORGANIZER;CN="Jenny Clair":MAILTO:jclair@freedomchristian.org
END:VEVENT
END:VCALENDAR