BEGIN:VCALENDAR
VERSION:2.0
PRODID:-//Freedom Christian - ECPv6.15.18//NONSGML v1.0//EN
CALSCALE:GREGORIAN
METHOD:PUBLISH
X-ORIGINAL-URL:https://freedomchristian.org
X-WR-CALDESC:Events for Freedom Christian
REFRESH-INTERVAL;VALUE=DURATION:PT1H
X-Robots-Tag:noindex
X-PUBLISHED-TTL:PT1H
BEGIN:VTIMEZONE
TZID:UTC
BEGIN:STANDARD
TZOFFSETFROM:+0000
TZOFFSETTO:+0000
TZNAME:UTC
DTSTART:20250101T000000
END:STANDARD
END:VTIMEZONE
BEGIN:VEVENT
DTSTART;TZID=UTC:20260314T093000
DTEND;TZID=UTC:20260314T120000
DTSTAMP:20260420T130923
CREATED:20260204T205737Z
LAST-MODIFIED:20260305T184258Z
UID:3796-1773480600-1773489600@freedomchristian.org
SUMMARY:Propelled Coffee & Crafts
DESCRIPTION:Ladies\, you are invited to have some coffee and do some crafts with us! \nDate: March 14\, 2026\nTime: 9:30 am – 12pm\nPlace: Sterling Heights Campus – Cafe\nAge: Ladies 16 & up\nCost: $20 pp / $25 pp after 2/25\nIncludes: one hand-crafted beverage\, light refreshments\, and all the supplies needed for the craft project\n\nWE WILL NOT BE ACCEPTING PAYMENTS AT THE DOOR \nTo register for this event\, please contact Jenny at jclair@freedomchristian.org
URL:https://freedomchristian.org/event/coffee-crafts/
LOCATION:Freedom Christian SHC\, 41380 Ryan Rd\, Sterling Heights\, MI\, 48314\, United States
CATEGORIES:Adult Ministries,Propelled
ATTACH;FMTTYPE=image/png:https://freedomchristian.org/wp-content/uploads/2026/02/Propelled-coffee-and-crafts.png
ORGANIZER;CN="Jenny Clair":MAILTO:jclair@freedomchristian.org
END:VEVENT
END:VCALENDAR