BEGIN:VCALENDAR
VERSION:2.0
PRODID:-//Freedom Christian - ECPv6.15.18//NONSGML v1.0//EN
CALSCALE:GREGORIAN
METHOD:PUBLISH
X-ORIGINAL-URL:https://freedomchristian.org
X-WR-CALDESC:Events for Freedom Christian
REFRESH-INTERVAL;VALUE=DURATION:PT1H
X-Robots-Tag:noindex
X-PUBLISHED-TTL:PT1H
BEGIN:VTIMEZONE
TZID:UTC
BEGIN:STANDARD
TZOFFSETFROM:+0000
TZOFFSETTO:+0000
TZNAME:UTC
DTSTART:20220101T000000
END:STANDARD
END:VTIMEZONE
BEGIN:VEVENT
DTSTART;TZID=UTC:20230719T190000
DTEND;TZID=UTC:20230719T203000
DTSTAMP:20260425T184325
CREATED:20230713T154939Z
LAST-MODIFIED:20230713T154939Z
UID:1499-1689793200-1689798600@freedomchristian.org
SUMMARY:Sprouts Trike-A-Thon
DESCRIPTION:
URL:https://freedomchristian.org/event/sprouts-trike-a-thon/
LOCATION:Freedom Christian SHC\, 41380 Ryan Rd\, Sterling Heights\, MI\, 48314\, United States
CATEGORIES:Roots
ORGANIZER;CN="Dawson Wilmoth":MAILTO:dwilmoth@freedomchristian.org
END:VEVENT
END:VCALENDAR