BEGIN:VCALENDAR
VERSION:2.0
PRODID:-//Freedom Christian - ECPv6.15.18//NONSGML v1.0//EN
CALSCALE:GREGORIAN
METHOD:PUBLISH
X-ORIGINAL-URL:https://freedomchristian.org
X-WR-CALDESC:Events for Freedom Christian
REFRESH-INTERVAL;VALUE=DURATION:PT1H
X-Robots-Tag:noindex
X-PUBLISHED-TTL:PT1H
BEGIN:VTIMEZONE
TZID:UTC
BEGIN:STANDARD
TZOFFSETFROM:+0000
TZOFFSETTO:+0000
TZNAME:UTC
DTSTART:20220101T000000
END:STANDARD
END:VTIMEZONE
BEGIN:VEVENT
DTSTART;TZID=UTC:20230707T180000
DTEND;TZID=UTC:20230707T230000
DTSTAMP:20260425T184319
CREATED:20230607T190240Z
LAST-MODIFIED:20230607T190654Z
UID:1417-1688752800-1688770800@freedomchristian.org
SUMMARY:Baseball at Jimmy John's Field
DESCRIPTION:FCYA will be going to Jimmy John’s field to enjoy a evening game and have fellowship. \nWhen: July 7th at 6pm\nWhere: Jimmy John’s Field\nCost: $15/person which includes the ticket\, a hot dog\, bag of chip\, and a can of pop. \nSign up by August 30th!
URL:https://freedomchristian.org/event/baseball-at-jimmy-johns-field/
LOCATION:Jimmy John’s Field\, 7171 Auburn Rd\, Utica\, MI\, 48317\, United States
CATEGORIES:FCYA
ORGANIZER;CN="James Hess":MAILTO:jameshess@freedomchristian.com
END:VEVENT
END:VCALENDAR