BEGIN:VCALENDAR
VERSION:2.0
PRODID:-//Freedom Christian - ECPv6.15.18//NONSGML v1.0//EN
CALSCALE:GREGORIAN
METHOD:PUBLISH
X-WR-CALNAME:Freedom Christian
X-ORIGINAL-URL:https://freedomchristian.org
X-WR-CALDESC:Events for Freedom Christian
REFRESH-INTERVAL;VALUE=DURATION:PT1H
X-Robots-Tag:noindex
X-PUBLISHED-TTL:PT1H
BEGIN:VTIMEZONE
TZID:UTC
BEGIN:STANDARD
TZOFFSETFROM:+0000
TZOFFSETTO:+0000
TZNAME:UTC
DTSTART:20220101T000000
END:STANDARD
END:VTIMEZONE
BEGIN:VEVENT
DTSTART;TZID=UTC:20230630T180000
DTEND;TZID=UTC:20230630T210000
DTSTAMP:20260425T183934
CREATED:20230309T162330Z
LAST-MODIFIED:20230422T164149Z
UID:1112-1688148000-1688158800@freedomchristian.org
SUMMARY:Blastastic
DESCRIPTION:Roots kids are hosting a fun night for kids ages preschool to 5th grade at Washington Twp. Campus.
URL:https://freedomchristian.org/event/blastastic/
LOCATION:Freedom Christian WTC\, 11097 27 Mile Rd\, Washignton\, MI\, 48094\, United States
CATEGORIES:Roots
ORGANIZER;CN="Dawson Wilmoth":MAILTO:dwilmoth@freedomchristian.org
END:VEVENT
END:VCALENDAR